BEGIN:VCALENDAR
VERSION:2.0
PRODID:-//umland verlag - ECPv6.15.20//NONSGML v1.0//EN
CALSCALE:GREGORIAN
METHOD:PUBLISH
X-ORIGINAL-URL:https://umland-verlag.de
X-WR-CALDESC:Veranstaltungen für umland verlag
REFRESH-INTERVAL;VALUE=DURATION:PT1H
X-Robots-Tag:noindex
X-PUBLISHED-TTL:PT1H
BEGIN:VTIMEZONE
TZID:Europe/Paris
BEGIN:DAYLIGHT
TZOFFSETFROM:+0100
TZOFFSETTO:+0200
TZNAME:CEST
DTSTART:20250330T010000
END:DAYLIGHT
BEGIN:STANDARD
TZOFFSETFROM:+0200
TZOFFSETTO:+0100
TZNAME:CET
DTSTART:20251026T010000
END:STANDARD
BEGIN:DAYLIGHT
TZOFFSETFROM:+0100
TZOFFSETTO:+0200
TZNAME:CEST
DTSTART:20260329T010000
END:DAYLIGHT
BEGIN:STANDARD
TZOFFSETFROM:+0200
TZOFFSETTO:+0100
TZNAME:CET
DTSTART:20261025T010000
END:STANDARD
BEGIN:DAYLIGHT
TZOFFSETFROM:+0100
TZOFFSETTO:+0200
TZNAME:CEST
DTSTART:20270328T010000
END:DAYLIGHT
BEGIN:STANDARD
TZOFFSETFROM:+0200
TZOFFSETTO:+0100
TZNAME:CET
DTSTART:20271031T010000
END:STANDARD
END:VTIMEZONE
BEGIN:VEVENT
DTSTART;TZID=Europe/Paris:20260619T170000
DTEND;TZID=Europe/Paris:20260619T190000
DTSTAMP:20260421T202201
CREATED:20260419T181634Z
LAST-MODIFIED:20260419T181754Z
UID:3475-1781888400-1781895600@umland-verlag.de
SUMMARY:Doreen Mechsner liest aus "AUSGEWECHSELT - Gespräche über die Lebensmitte"
DESCRIPTION:
URL:https://umland-verlag.de/event/doreen-mechsner-liest-aus-ausgewechselt-gespraeche-ueber-die-lebensmitte-6/
LOCATION:Pension Landstübchen\, Kirchstraße 15\, Kircheck\, Mecklenburg.Vorpommern\, 17309\, Germany
END:VEVENT
BEGIN:VEVENT
DTSTART;TZID=Europe/Paris:20260620T160000
DTEND;TZID=Europe/Paris:20260620T180000
DTSTAMP:20260421T202201
CREATED:20260419T180846Z
LAST-MODIFIED:20260419T180952Z
UID:3472-1781971200-1781978400@umland-verlag.de
SUMMARY:Seelübber Gastlesung - Schauspielerin Dana Golombek von Senden liest aus "Machen wir´s uns erstmal nett" von Bibo Loebnau
DESCRIPTION:Ein Campingroman
URL:https://umland-verlag.de/event/seeluebber-gastlesung-schauspielerin-dana-golombek-von-senden-liest-aus-machen-wirs-uns-erstmal-nett-von-bibo-loebnaut/
LOCATION:Schreibwerkstatt Seelübbe\, Am Seelübber See 26\, Seelübbe (bei Prenzlau)\, Brandenburg\, 17291
CATEGORIES:Lesung
ORGANIZER;CN="umland verlag":MAILTO:mail@umland-verlag.de
END:VEVENT
BEGIN:VEVENT
DTSTART;TZID=Europe/Paris:20260729T200000
DTEND;TZID=Europe/Paris:20260729T220000
DTSTAMP:20260421T202201
CREATED:20251123T193450Z
LAST-MODIFIED:20251123T193450Z
UID:3204-1785355200-1785362400@umland-verlag.de
SUMMARY:Doreen Mechsner liest aus "Ich möchte einfach noch Bäume ausreißen ..."
DESCRIPTION:
URL:https://umland-verlag.de/event/doreen-mechsner-liest-aus-ich-moechte-einfach-noch-baeume-ausreissen-2/
LOCATION:Cliff Hotel Rügen\, Cliff am Meer 1\, Sellin\, Mecklenburg.Vorpommern\, 18586
CATEGORIES:Lesung
END:VEVENT
BEGIN:VEVENT
DTSTART;TZID=Europe/Paris:20260826T080000
DTEND;TZID=Europe/Paris:20260826T170000
DTSTAMP:20260421T202201
CREATED:20260419T182601Z
LAST-MODIFIED:20260419T182601Z
UID:3483-1787731200-1787763600@umland-verlag.de
SUMMARY:Doreen Mechsner liest
DESCRIPTION:
URL:https://umland-verlag.de/event/doreen-mechsner-liest/
LOCATION:Seaside Parkhotel\, Richard-Wagner-Straße 7\, Leipzig\, Sachsen\, 04109
CATEGORIES:Lesung
END:VEVENT
BEGIN:VEVENT
DTSTART;TZID=Europe/Paris:20261028T200000
DTEND;TZID=Europe/Paris:20261028T220000
DTSTAMP:20260421T202201
CREATED:20251211T120021Z
LAST-MODIFIED:20251211T120021Z
UID:3228-1793217600-1793224800@umland-verlag.de
SUMMARY:Doreen Mechsner liest aus: "AUSGEWECHSELT. Gespräche über die Lebensmitte"
DESCRIPTION:Acht Männer und acht Frauen erzählen von sich\,\nvon ihren Gedanken und Gefühlen\, ihren Verwirrungen und Erkenntnissen\nund den Turbulenzen in der ver-rückten Zeit der Wechseljahre und Midlife-Crisis.
URL:https://umland-verlag.de/event/doreen-mechsner-liest-aus-ausgewechselt-gespraeche-ueber-die-lebensmitte-2/
LOCATION:Cliff Hotel Rügen\, Cliff am Meer 1\, Sellin\, Mecklenburg.Vorpommern\, 18586
CATEGORIES:Lesung
END:VEVENT
BEGIN:VEVENT
DTSTART;TZID=Europe/Paris:20261114T190000
DTEND;TZID=Europe/Paris:20261114T210000
DTSTAMP:20260421T202201
CREATED:20260419T183148Z
LAST-MODIFIED:20260419T183148Z
UID:3486-1794682800-1794690000@umland-verlag.de
SUMMARY:Doreen Mechsner liest aus "AUSGEWECHSELT - Gespräche übder die Lebensmitte"
DESCRIPTION:
URL:https://umland-verlag.de/event/doreen-mechsner-liest-aus-ausgewechselt-gespraeche-uebder-die-lebensmitte/
LOCATION:Buchhandlung Saatgut in Bad Shandau\, Marktstraße 1\, Bad Schandau\, Sachsen\, 01814
CATEGORIES:Lesung
END:VEVENT
BEGIN:VEVENT
DTSTART;TZID=Europe/Paris:20261125T200000
DTEND;TZID=Europe/Paris:20261125T220000
DTSTAMP:20260421T202201
CREATED:20251211T120224Z
LAST-MODIFIED:20251211T120224Z
UID:3230-1795636800-1795644000@umland-verlag.de
SUMMARY:Doreen Mechsner liest aus "Winterschmetterlinge"
DESCRIPTION:
URL:https://umland-verlag.de/event/doreen-mechsner-liest-aus-winterschmetterlinge/
LOCATION:Cliff Hotel Rügen\, Cliff am Meer 1\, Sellin\, Mecklenburg.Vorpommern\, 18586
CATEGORIES:Lesung
END:VEVENT
END:VCALENDAR