BEGIN:VCALENDAR
VERSION:2.0
PRODID:-//umland verlag - ECPv6.15.20//NONSGML v1.0//EN
CALSCALE:GREGORIAN
METHOD:PUBLISH
X-ORIGINAL-URL:https://umland-verlag.de
X-WR-CALDESC:Veranstaltungen für umland verlag
REFRESH-INTERVAL;VALUE=DURATION:PT1H
X-Robots-Tag:noindex
X-PUBLISHED-TTL:PT1H
BEGIN:VTIMEZONE
TZID:Europe/Paris
BEGIN:DAYLIGHT
TZOFFSETFROM:+0100
TZOFFSETTO:+0200
TZNAME:CEST
DTSTART:20250330T010000
END:DAYLIGHT
BEGIN:STANDARD
TZOFFSETFROM:+0200
TZOFFSETTO:+0100
TZNAME:CET
DTSTART:20251026T010000
END:STANDARD
BEGIN:DAYLIGHT
TZOFFSETFROM:+0100
TZOFFSETTO:+0200
TZNAME:CEST
DTSTART:20260329T010000
END:DAYLIGHT
BEGIN:STANDARD
TZOFFSETFROM:+0200
TZOFFSETTO:+0100
TZNAME:CET
DTSTART:20261025T010000
END:STANDARD
BEGIN:DAYLIGHT
TZOFFSETFROM:+0100
TZOFFSETTO:+0200
TZNAME:CEST
DTSTART:20270328T010000
END:DAYLIGHT
BEGIN:STANDARD
TZOFFSETFROM:+0200
TZOFFSETTO:+0100
TZNAME:CET
DTSTART:20271031T010000
END:STANDARD
END:VTIMEZONE
BEGIN:VEVENT
DTSTART;TZID=Europe/Paris:20260517T160000
DTEND;TZID=Europe/Paris:20260517T180000
DTSTAMP:20260421T201728
CREATED:20260419T180250Z
LAST-MODIFIED:20260419T180250Z
UID:3470-1779033600-1779040800@umland-verlag.de
SUMMARY:Doreen Mechsner - PotpourriLesung aus (un)veröffentlichten Texten
DESCRIPTION:Doreen Mechnser liest einen Kessel Buntes aus ihren Büchern und unveröffentlichten Texten\nAugrund der begrenzten Platzzahl bitte reservieren über: mail@umland-verlag.de
URL:https://umland-verlag.de/event/doreen-mechsner-potpourrilesung-aus-unveroeffentlichten-texten/
LOCATION:Schreibwerkstatt Seelübbe\, Am Seelübber See 26\, Seelübbe (bei Prenzlau)\, Brandenburg\, 17291
CATEGORIES:Lesung
ORGANIZER;CN="umland verlag":MAILTO:mail@umland-verlag.de
END:VEVENT
END:VCALENDAR