BEGIN:VCALENDAR
VERSION:2.0
PRODID:-//umland verlag - ECPv6.15.20//NONSGML v1.0//EN
CALSCALE:GREGORIAN
METHOD:PUBLISH
X-ORIGINAL-URL:https://umland-verlag.de
X-WR-CALDESC:Veranstaltungen für umland verlag
REFRESH-INTERVAL;VALUE=DURATION:PT1H
X-Robots-Tag:noindex
X-PUBLISHED-TTL:PT1H
BEGIN:VTIMEZONE
TZID:Europe/Paris
BEGIN:DAYLIGHT
TZOFFSETFROM:+0100
TZOFFSETTO:+0200
TZNAME:CEST
DTSTART:20250330T010000
END:DAYLIGHT
BEGIN:STANDARD
TZOFFSETFROM:+0200
TZOFFSETTO:+0100
TZNAME:CET
DTSTART:20251026T010000
END:STANDARD
BEGIN:DAYLIGHT
TZOFFSETFROM:+0100
TZOFFSETTO:+0200
TZNAME:CEST
DTSTART:20260329T010000
END:DAYLIGHT
BEGIN:STANDARD
TZOFFSETFROM:+0200
TZOFFSETTO:+0100
TZNAME:CET
DTSTART:20261025T010000
END:STANDARD
BEGIN:DAYLIGHT
TZOFFSETFROM:+0100
TZOFFSETTO:+0200
TZNAME:CEST
DTSTART:20270328T010000
END:DAYLIGHT
BEGIN:STANDARD
TZOFFSETFROM:+0200
TZOFFSETTO:+0100
TZNAME:CET
DTSTART:20271031T010000
END:STANDARD
END:VTIMEZONE
BEGIN:VEVENT
DTSTART;TZID=Europe/Paris:20260517T160000
DTEND;TZID=Europe/Paris:20260517T180000
DTSTAMP:20260421T200152
CREATED:20260419T180250Z
LAST-MODIFIED:20260419T180250Z
UID:3470-1779033600-1779040800@umland-verlag.de
SUMMARY:Doreen Mechsner - PotpourriLesung aus (un)veröffentlichten Texten
DESCRIPTION:Doreen Mechnser liest einen Kessel Buntes aus ihren Büchern und unveröffentlichten Texten\nAugrund der begrenzten Platzzahl bitte reservieren über: mail@umland-verlag.de
URL:https://umland-verlag.de/event/doreen-mechsner-potpourrilesung-aus-unveroeffentlichten-texten/
LOCATION:Schreibwerkstatt Seelübbe\, Am Seelübber See 26\, Seelübbe (bei Prenzlau)\, Brandenburg\, 17291
CATEGORIES:Lesung
ORGANIZER;CN="umland verlag":MAILTO:mail@umland-verlag.de
END:VEVENT
BEGIN:VEVENT
DTSTART;TZID=Europe/Paris:20260520T200000
DTEND;TZID=Europe/Paris:20260520T220000
DTSTAMP:20260421T200152
CREATED:20251123T193237Z
LAST-MODIFIED:20251123T193559Z
UID:3200-1779307200-1779314400@umland-verlag.de
SUMMARY:Doreen Mechsner liest aus "Ich möchte einfach noch Bäume ausreißen ..."
DESCRIPTION:
URL:https://umland-verlag.de/event/doreen-mechsner-liest-aus-ich-moechte-einfach-noch-baeume/
LOCATION:Cliff Hotel Rügen\, Cliff am Meer 1\, Sellin\, Mecklenburg.Vorpommern\, 18586
CATEGORIES:Lesung
END:VEVENT
BEGIN:VEVENT
DTSTART;TZID=Europe/Paris:20260529T180000
DTEND;TZID=Europe/Paris:20260529T190000
DTSTAMP:20260421T200152
CREATED:20260419T182059Z
LAST-MODIFIED:20260419T182059Z
UID:3480-1780077600-1780081200@umland-verlag.de
SUMMARY:Doreen Mechsner liest aus "AUSGEWECHSELT - Gespräche über die Lebensmitte"
DESCRIPTION:
URL:https://umland-verlag.de/event/doreen-mechsner-liest-aus-ausgewechselt-gespraeche-ueber-die-lebensmitte-7/
LOCATION:Vierecker Landstübchen\, Kirchstraße 15\, Viereck\, 1709
CATEGORIES:Lesung
END:VEVENT
END:VCALENDAR