BEGIN:VCALENDAR
VERSION:2.0
PRODID:-//umland verlag - ECPv6.15.20//NONSGML v1.0//EN
CALSCALE:GREGORIAN
METHOD:PUBLISH
X-ORIGINAL-URL:https://umland-verlag.de
X-WR-CALDESC:Veranstaltungen für umland verlag
REFRESH-INTERVAL;VALUE=DURATION:PT1H
X-Robots-Tag:noindex
X-PUBLISHED-TTL:PT1H
BEGIN:VTIMEZONE
TZID:Europe/Paris
BEGIN:DAYLIGHT
TZOFFSETFROM:+0100
TZOFFSETTO:+0200
TZNAME:CEST
DTSTART:20240331T010000
END:DAYLIGHT
BEGIN:STANDARD
TZOFFSETFROM:+0200
TZOFFSETTO:+0100
TZNAME:CET
DTSTART:20241027T010000
END:STANDARD
BEGIN:DAYLIGHT
TZOFFSETFROM:+0100
TZOFFSETTO:+0200
TZNAME:CEST
DTSTART:20250330T010000
END:DAYLIGHT
BEGIN:STANDARD
TZOFFSETFROM:+0200
TZOFFSETTO:+0100
TZNAME:CET
DTSTART:20251026T010000
END:STANDARD
BEGIN:DAYLIGHT
TZOFFSETFROM:+0100
TZOFFSETTO:+0200
TZNAME:CEST
DTSTART:20260329T010000
END:DAYLIGHT
BEGIN:STANDARD
TZOFFSETFROM:+0200
TZOFFSETTO:+0100
TZNAME:CET
DTSTART:20261025T010000
END:STANDARD
END:VTIMEZONE
BEGIN:VEVENT
DTSTART;TZID=Europe/Paris:20251001T100000
DTEND;TZID=Europe/Paris:20251001T120000
DTSTAMP:20260422T033159
CREATED:20250718T104747Z
LAST-MODIFIED:20250718T104811Z
UID:3149-1759312800-1759320000@umland-verlag.de
SUMMARY:Doreen Mechnser liest aus ihrem neuen Buch
DESCRIPTION:Premierenlesung aus Doreen Mechsners neuem (noch titellosen) Buch über die Wechseljahre und Midlife-Crisis von Männern und Frauen
URL:https://umland-verlag.de/event/doreen-mechnser-liest-aus-ihrem-neuen-buch/
LOCATION:Vereinshaus “Kosmonaut”\, Berliner Straße 52 a\, Schwedt/Oder\, 16303
END:VEVENT
BEGIN:VEVENT
DTSTART;TZID=Europe/Paris:20251006T190000
DTEND;TZID=Europe/Paris:20251006T220000
DTSTAMP:20260422T033159
CREATED:20250718T104403Z
LAST-MODIFIED:20250718T104432Z
UID:3147-1759777200-1759788000@umland-verlag.de
SUMMARY:Dominique Elsaesser liest aus "Spicy Files"
DESCRIPTION:Vorpremierenlesung von Dominique Elsaesser aus seinem Brüsselkrimi!
URL:https://umland-verlag.de/event/dominique-elsaesser-liest-aus-spicy-files-2/
LOCATION:Café Kleinschmidt in Eberswalde\, Eisenbahnstraße 94\, Eberswalde\, Brandenburg\, 16225\, Deutschland
ORGANIZER;CN="Caf%C3%A9 Kleinschmidt Eberswalde":MAILTO:info@kleinschmidt-eberswalde.de
END:VEVENT
BEGIN:VEVENT
DTSTART;TZID=Europe/Paris:20251008T193000
DTEND;TZID=Europe/Paris:20251008T213000
DTSTAMP:20260422T033159
CREATED:20250608T105946Z
LAST-MODIFIED:20250608T105946Z
UID:3108-1759951800-1759959000@umland-verlag.de
SUMMARY:Dominique Elsaesser liest aus "Spicy Files"
DESCRIPTION:Premierenlesung von Dominique Elsaesser aus seinem Brüsselkrimi!
URL:https://umland-verlag.de/event/dominique-elsaesser-liest-aus-spicy-files/
LOCATION:Buchhandlung Schatzinsel Bernau\, Alte Goethestraße 2C\, Bernau\, 16321
CATEGORIES:Lesung
ORGANIZER;CN="Buchhandlung Schatzinsel":MAILTO:info@schatzinsel-bernau.de
END:VEVENT
END:VCALENDAR