BEGIN:VCALENDAR
VERSION:2.0
PRODID:-//umland verlag - ECPv6.15.20//NONSGML v1.0//EN
CALSCALE:GREGORIAN
METHOD:PUBLISH
X-WR-CALNAME:umland verlag
X-ORIGINAL-URL:https://umland-verlag.de
X-WR-CALDESC:Veranstaltungen für umland verlag
REFRESH-INTERVAL;VALUE=DURATION:PT1H
X-Robots-Tag:noindex
X-PUBLISHED-TTL:PT1H
BEGIN:VTIMEZONE
TZID:Europe/Paris
BEGIN:DAYLIGHT
TZOFFSETFROM:+0100
TZOFFSETTO:+0200
TZNAME:CEST
DTSTART:20250330T010000
END:DAYLIGHT
BEGIN:STANDARD
TZOFFSETFROM:+0200
TZOFFSETTO:+0100
TZNAME:CET
DTSTART:20251026T010000
END:STANDARD
BEGIN:DAYLIGHT
TZOFFSETFROM:+0100
TZOFFSETTO:+0200
TZNAME:CEST
DTSTART:20260329T010000
END:DAYLIGHT
BEGIN:STANDARD
TZOFFSETFROM:+0200
TZOFFSETTO:+0100
TZNAME:CET
DTSTART:20261025T010000
END:STANDARD
BEGIN:DAYLIGHT
TZOFFSETFROM:+0100
TZOFFSETTO:+0200
TZNAME:CEST
DTSTART:20270328T010000
END:DAYLIGHT
BEGIN:STANDARD
TZOFFSETFROM:+0200
TZOFFSETTO:+0100
TZNAME:CET
DTSTART:20271031T010000
END:STANDARD
END:VTIMEZONE
BEGIN:VEVENT
DTSTART;TZID=Europe/Paris:20260326T190000
DTEND;TZID=Europe/Paris:20260326T210000
DTSTAMP:20260421T213857
CREATED:20260304T200945Z
LAST-MODIFIED:20260304T200945Z
UID:3445-1774551600-1774558800@umland-verlag.de
SUMMARY:Doreen Mechsner liest aus "AUSGEWECHSELT. Gespräche über die Lebensmitte"
DESCRIPTION:
URL:https://umland-verlag.de/event/doreen-mechsner-liest-aus-ausgewechselt-gespraeche-ueber-die-lebensmitte-5/
LOCATION:Bücher-Karger\, Am Markt 11\, Templin\, Brandenburg\, 17268\, Deutschland
CATEGORIES:Lesung
ORGANIZER;CN="B%C3%BCcherKarger":MAILTO:info@buecher-karger.de
END:VEVENT
END:VCALENDAR