BEGIN:VCALENDAR
VERSION:2.0
PRODID:-//umland verlag - ECPv6.15.20//NONSGML v1.0//EN
CALSCALE:GREGORIAN
METHOD:PUBLISH
X-ORIGINAL-URL:https://umland-verlag.de
X-WR-CALDESC:Veranstaltungen für umland verlag
REFRESH-INTERVAL;VALUE=DURATION:PT1H
X-Robots-Tag:noindex
X-PUBLISHED-TTL:PT1H
BEGIN:VTIMEZONE
TZID:Europe/Paris
BEGIN:DAYLIGHT
TZOFFSETFROM:+0100
TZOFFSETTO:+0200
TZNAME:CEST
DTSTART:20250330T010000
END:DAYLIGHT
BEGIN:STANDARD
TZOFFSETFROM:+0200
TZOFFSETTO:+0100
TZNAME:CET
DTSTART:20251026T010000
END:STANDARD
BEGIN:DAYLIGHT
TZOFFSETFROM:+0100
TZOFFSETTO:+0200
TZNAME:CEST
DTSTART:20260329T010000
END:DAYLIGHT
BEGIN:STANDARD
TZOFFSETFROM:+0200
TZOFFSETTO:+0100
TZNAME:CET
DTSTART:20261025T010000
END:STANDARD
BEGIN:DAYLIGHT
TZOFFSETFROM:+0100
TZOFFSETTO:+0200
TZNAME:CEST
DTSTART:20270328T010000
END:DAYLIGHT
BEGIN:STANDARD
TZOFFSETFROM:+0200
TZOFFSETTO:+0100
TZNAME:CET
DTSTART:20271031T010000
END:STANDARD
END:VTIMEZONE
BEGIN:VEVENT
DTSTART;TZID=Europe/Paris:20260306T193000
DTEND;TZID=Europe/Paris:20260306T213000
DTSTAMP:20260421T214011
CREATED:20260202T104657Z
LAST-MODIFIED:20260202T104657Z
UID:3371-1772825400-1772832600@umland-verlag.de
SUMMARY:Doreen Mechsner liest aus "Winterschmetterlinge"
DESCRIPTION:
URL:https://umland-verlag.de/event/doreen-mechsner-liest-aus-winterschmetterlinge-2/
LOCATION:Bäumihof Seehausen\, Dorfstraße 16\, Oberuckersee / OT Seehausen\, Brandenburg\, 17291\, Germany
END:VEVENT
END:VCALENDAR