BEGIN:VCALENDAR
VERSION:2.0
PRODID:-//umland verlag - ECPv6.15.20//NONSGML v1.0//EN
CALSCALE:GREGORIAN
METHOD:PUBLISH
X-ORIGINAL-URL:https://umland-verlag.de
X-WR-CALDESC:Veranstaltungen für umland verlag
REFRESH-INTERVAL;VALUE=DURATION:PT1H
X-Robots-Tag:noindex
X-PUBLISHED-TTL:PT1H
BEGIN:VTIMEZONE
TZID:Europe/Paris
BEGIN:DAYLIGHT
TZOFFSETFROM:+0100
TZOFFSETTO:+0200
TZNAME:CEST
DTSTART:20250330T010000
END:DAYLIGHT
BEGIN:STANDARD
TZOFFSETFROM:+0200
TZOFFSETTO:+0100
TZNAME:CET
DTSTART:20251026T010000
END:STANDARD
BEGIN:DAYLIGHT
TZOFFSETFROM:+0100
TZOFFSETTO:+0200
TZNAME:CEST
DTSTART:20260329T010000
END:DAYLIGHT
BEGIN:STANDARD
TZOFFSETFROM:+0200
TZOFFSETTO:+0100
TZNAME:CET
DTSTART:20261025T010000
END:STANDARD
BEGIN:DAYLIGHT
TZOFFSETFROM:+0100
TZOFFSETTO:+0200
TZNAME:CEST
DTSTART:20270328T010000
END:DAYLIGHT
BEGIN:STANDARD
TZOFFSETFROM:+0200
TZOFFSETTO:+0100
TZNAME:CET
DTSTART:20271031T010000
END:STANDARD
END:VTIMEZONE
BEGIN:VEVENT
DTSTART;VALUE=DATE:20260221
DTEND;VALUE=DATE:20260222
DTSTAMP:20260421T230335
CREATED:20260201T193026Z
LAST-MODIFIED:20260201T193026Z
UID:3361-1771632000-1771718399@umland-verlag.de
SUMMARY:Buchmesse WortREICH - in Ludwigsfelde
DESCRIPTION:Ein Tag voller Bücher\, Geschichten\, Meet & Greets und Lesungen. \nEin bunter Marktplatz für Worte\, Werke und Wunderbares! Über den Tag verteilt finden neben Buchverkäufen auch Lesungen lokaler und überregionaler Autor:innen mit anschließender Signierstunde statt. \nDoreen Mechsner liest aus „Ich möchte einfach noch Bäume ausreißen! Aber nur kleine. Fast Hundertjährige erzählen“ \n 
URL:https://umland-verlag.de/event/buchmesse-wortreich-in-ludwigsfelde/
LOCATION:Klubhaus Ludwigsfelde\, Theodor-Fontane-Straße 42\, Ludwigsfelde\, Brandenburg\, 14974\, Germany
END:VEVENT
END:VCALENDAR