BEGIN:VCALENDAR
VERSION:2.0
PRODID:-//umland verlag - ECPv6.15.20//NONSGML v1.0//EN
CALSCALE:GREGORIAN
METHOD:PUBLISH
X-WR-CALNAME:umland verlag
X-ORIGINAL-URL:https://umland-verlag.de
X-WR-CALDESC:Veranstaltungen für umland verlag
REFRESH-INTERVAL;VALUE=DURATION:PT1H
X-Robots-Tag:noindex
X-PUBLISHED-TTL:PT1H
BEGIN:VTIMEZONE
TZID:Europe/Paris
BEGIN:DAYLIGHT
TZOFFSETFROM:+0100
TZOFFSETTO:+0200
TZNAME:CEST
DTSTART:20240331T010000
END:DAYLIGHT
BEGIN:STANDARD
TZOFFSETFROM:+0200
TZOFFSETTO:+0100
TZNAME:CET
DTSTART:20241027T010000
END:STANDARD
BEGIN:DAYLIGHT
TZOFFSETFROM:+0100
TZOFFSETTO:+0200
TZNAME:CEST
DTSTART:20250330T010000
END:DAYLIGHT
BEGIN:STANDARD
TZOFFSETFROM:+0200
TZOFFSETTO:+0100
TZNAME:CET
DTSTART:20251026T010000
END:STANDARD
BEGIN:DAYLIGHT
TZOFFSETFROM:+0100
TZOFFSETTO:+0200
TZNAME:CEST
DTSTART:20260329T010000
END:DAYLIGHT
BEGIN:STANDARD
TZOFFSETFROM:+0200
TZOFFSETTO:+0100
TZNAME:CET
DTSTART:20261025T010000
END:STANDARD
END:VTIMEZONE
BEGIN:VEVENT
DTSTART;TZID=Europe/Paris:20251108T120000
DTEND;TZID=Europe/Paris:20251108T180000
DTSTAMP:20260422T032810
CREATED:20250608T110610Z
LAST-MODIFIED:20250608T110610Z
UID:3110-1762603200-1762624800@umland-verlag.de
SUMMARY:Lesung und Podiumsdiskussion
DESCRIPTION:Fortsetzung der Veranstaltung vom 08. März 2025 – mit den Autorinnen Kathrin Schmidt\, Maren Wursten und Doreen Mechsner sowie dem Schriftsteller Uwe Tellkampf und dem Historiker Dr. René Schlotte
URL:https://umland-verlag.de/event/lesung-und-podiumsdiskussion/
LOCATION:Kulturscheune Marquardt in Potsdam\, Fahrländer Straße 1c\, Potsdam\, Brandenburg\, 14476\, Deutschland
END:VEVENT
END:VCALENDAR