BEGIN:VCALENDAR
VERSION:2.0
PRODID:-//umland verlag - ECPv6.15.20//NONSGML v1.0//EN
CALSCALE:GREGORIAN
METHOD:PUBLISH
X-ORIGINAL-URL:https://umland-verlag.de
X-WR-CALDESC:Veranstaltungen für umland verlag
REFRESH-INTERVAL;VALUE=DURATION:PT1H
X-Robots-Tag:noindex
X-PUBLISHED-TTL:PT1H
BEGIN:VTIMEZONE
TZID:Europe/Paris
BEGIN:DAYLIGHT
TZOFFSETFROM:+0100
TZOFFSETTO:+0200
TZNAME:CEST
DTSTART:20230326T010000
END:DAYLIGHT
BEGIN:STANDARD
TZOFFSETFROM:+0200
TZOFFSETTO:+0100
TZNAME:CET
DTSTART:20231029T010000
END:STANDARD
BEGIN:DAYLIGHT
TZOFFSETFROM:+0100
TZOFFSETTO:+0200
TZNAME:CEST
DTSTART:20240331T010000
END:DAYLIGHT
BEGIN:STANDARD
TZOFFSETFROM:+0200
TZOFFSETTO:+0100
TZNAME:CET
DTSTART:20241027T010000
END:STANDARD
BEGIN:DAYLIGHT
TZOFFSETFROM:+0100
TZOFFSETTO:+0200
TZNAME:CEST
DTSTART:20250330T010000
END:DAYLIGHT
BEGIN:STANDARD
TZOFFSETFROM:+0200
TZOFFSETTO:+0100
TZNAME:CET
DTSTART:20251026T010000
END:STANDARD
END:VTIMEZONE
BEGIN:VEVENT
DTSTART;TZID=Europe/Paris:20241115T120000
DTEND;TZID=Europe/Paris:20241115T130000
DTSTAMP:20260422T211929
CREATED:20241102T114715Z
LAST-MODIFIED:20241102T114715Z
UID:2815-1731672000-1731675600@umland-verlag.de
SUMMARY:Lesung aus "Bambule in der Schule" - am bundesweiten Vorlesetag
DESCRIPTION:
URL:https://umland-verlag.de/event/lesung-aus-bambule-in-der-schule-am-bundesweiten-vorlesetag/
LOCATION:Buchhandlung Mahler\, Eisenbahnstraße 2a\, Eberswalde\, Brandenburg\, 16225
ORGANIZER;CN="Buchhandlung Mahler":MAILTO:ebw-buch@gmx.de
END:VEVENT
BEGIN:VEVENT
DTSTART;TZID=Europe/Paris:20241115T183000
DTEND;TZID=Europe/Paris:20241115T203000
DTSTAMP:20260422T211929
CREATED:20240403T172041Z
LAST-MODIFIED:20240403T172041Z
UID:2495-1731695400-1731702600@umland-verlag.de
SUMMARY:Lesung aus "Winterschmetterlinge"
DESCRIPTION:Doreen Mechsner liest aus ihrem Erzählband “Winterschmetterlinge” – einer Sammlung wunderschöner Liebesgeschichten. \nGefördert durch den Brandenburgischen Literaturrat aus Mitteln des Ministeriums für Wissenschaft\, Forschung und Kultur des Landes Brandenburg. 
URL:https://umland-verlag.de/event/lesung-aus-winterschmetterlinge-5/
LOCATION:Buchhaus Schulz\, Friedrichstraße 19\, Prenzlau\, Brandenburg\, 17291\, Deutschland
ORGANIZER;CN="Buchhaus Schulz":MAILTO:info@buchhaus-schulz.de
END:VEVENT
END:VCALENDAR