BEGIN:VCALENDAR
VERSION:2.0
PRODID:-//umland verlag - ECPv6.15.20//NONSGML v1.0//EN
CALSCALE:GREGORIAN
METHOD:PUBLISH
X-ORIGINAL-URL:https://umland-verlag.de
X-WR-CALDESC:Veranstaltungen für umland verlag
REFRESH-INTERVAL;VALUE=DURATION:PT1H
X-Robots-Tag:noindex
X-PUBLISHED-TTL:PT1H
BEGIN:VTIMEZONE
TZID:Europe/Paris
BEGIN:DAYLIGHT
TZOFFSETFROM:+0100
TZOFFSETTO:+0200
TZNAME:CEST
DTSTART:20230326T010000
END:DAYLIGHT
BEGIN:STANDARD
TZOFFSETFROM:+0200
TZOFFSETTO:+0100
TZNAME:CET
DTSTART:20231029T010000
END:STANDARD
BEGIN:DAYLIGHT
TZOFFSETFROM:+0100
TZOFFSETTO:+0200
TZNAME:CEST
DTSTART:20240331T010000
END:DAYLIGHT
BEGIN:STANDARD
TZOFFSETFROM:+0200
TZOFFSETTO:+0100
TZNAME:CET
DTSTART:20241027T010000
END:STANDARD
BEGIN:DAYLIGHT
TZOFFSETFROM:+0100
TZOFFSETTO:+0200
TZNAME:CEST
DTSTART:20250330T010000
END:DAYLIGHT
BEGIN:STANDARD
TZOFFSETFROM:+0200
TZOFFSETTO:+0100
TZNAME:CET
DTSTART:20251026T010000
END:STANDARD
END:VTIMEZONE
BEGIN:VEVENT
DTSTART;TZID=Europe/Paris:20240704T190000
DTEND;TZID=Europe/Paris:20240704T210000
DTSTAMP:20260423T032604
CREATED:20240403T171700Z
LAST-MODIFIED:20240403T171700Z
UID:2489-1720119600-1720126800@umland-verlag.de
SUMMARY:Lesung aus "Winterschmetterlinge"
DESCRIPTION:Doreen Mechsner liest aus ihrem Erzählband „Winterschmetterlinge“ – einer Sammlung wunderschöner Liebesgeschichten. \nGefördert durch den Brandenburgischen Literaturrat aus Mitteln des Ministeriums für Wissenschaft\, Forschung und Kultur des Landes Brandenburg. 
URL:https://umland-verlag.de/event/lesung-aus-winterschmetterlinge-4/
LOCATION:Bücher-Karger\, Am Markt 11\, Templin\, Brandenburg\, 17268\, Deutschland
ORGANIZER;CN="B%C3%BCcherKarger":MAILTO:info@buecher-karger.de
END:VEVENT
END:VCALENDAR